BEGIN:VCALENDAR
VERSION:2.0
PRODID:-//hacksw/handcal//NONSGML v1.0//EN
METHOD:PUBLISH
CALSCALE:GREGORIAN
BEGIN:VEVENT
UID:5e5c090078761
DTSTART:20200320T093000Z
DTSTAMP:20200301T191200Z
DTEND:20200320T123000Z
LOCATION:Santis - Hampton rd & Monash Ave\, Nedlands
DESCRIPTION:
URL;VALUE=URI:https://www.rideforyouth.com.au/2020/event/paddys-day-s
 oiree/
SUMMARY:Paddy's Day Soiree
END:VEVENT
END:VCALENDAR
